Package: MLInterfaces Version: 1.84.0 Command: /home/biocbuild/bbs-3.19-bioc/R/bin/R CMD INSTALL MLInterfaces StartedAt: 2024-10-16 16:30:34 -0400 (Wed, 16 Oct 2024) EndedAt: 2024-10-16 16:31:05 -0400 (Wed, 16 Oct 2024) EllapsedTime: 30.3 seconds RetCode: 0 Status: OK