Package: MLInterfaces Version: 1.84.0 Command: /Library/Frameworks/R.framework/Resources/bin/R CMD build --keep-empty-dirs --no-resave-data MLInterfaces StartedAt: 2024-06-09 17:18:28 -0400 (Sun, 09 Jun 2024) EndedAt: 2024-06-09 17:19:56 -0400 (Sun, 09 Jun 2024) EllapsedTime: 87.8 seconds RetCode: 0 Status: OK PackageFile: MLInterfaces_1.84.0.tar.gz PackageFileSize: 2.805 MiB