Package: MLInterfaces Version: 1.84.0 Command: /home/biocbuild/R/R-beta-2024-04-15_r86425/bin/R CMD build --keep-empty-dirs --no-resave-data MLInterfaces StartedAt: 2024-05-09 01:44:59 -0000 (Thu, 09 May 2024) EndedAt: 2024-05-09 01:46:34 -0000 (Thu, 09 May 2024) EllapsedTime: 95.1 seconds RetCode: 0 Status: OK PackageFile: MLInterfaces_1.84.0.tar.gz PackageFileSize: 1.656 MiB