Package: MLInterfaces Version: 1.84.0 Command: /Library/Frameworks/R.framework/Resources/bin/R CMD INSTALL MLInterfaces StartedAt: 2024-06-09 16:57:10 -0400 (Sun, 09 Jun 2024) EndedAt: 2024-06-09 16:57:51 -0400 (Sun, 09 Jun 2024) EllapsedTime: 40.7 seconds RetCode: 0 Status: OK