Package: MLInterfaces Version: 1.84.0 Command: /Library/Frameworks/R.framework/Resources/bin/R CMD INSTALL MLInterfaces StartedAt: 2024-10-16 17:59:22 -0400 (Wed, 16 Oct 2024) EndedAt: 2024-10-16 17:59:58 -0400 (Wed, 16 Oct 2024) EllapsedTime: 36.2 seconds RetCode: 0 Status: OK