Package: MIRit Version: 1.0.0 Command: /Library/Frameworks/R.framework/Resources/bin/R CMD build --keep-empty-dirs --no-resave-data MIRit StartedAt: 2024-10-16 20:58:35 -0400 (Wed, 16 Oct 2024) EndedAt: 2024-10-16 21:03:59 -0400 (Wed, 16 Oct 2024) EllapsedTime: 324.3 seconds RetCode: 1 Status: ERROR PackageFile: None PackageFileSize: NA