Package: MIRA Version: 1.26.0 Command: chmod a+r MIRA -R && E:\biocbuild\bbs-3.19-bioc\R\bin\R.exe CMD build --keep-empty-dirs --no-resave-data MIRA StartedAt: 2024-10-16 20:19:48 -0400 (Wed, 16 Oct 2024) EndedAt: 2024-10-16 20:21:01 -0400 (Wed, 16 Oct 2024) EllapsedTime: 73.3 seconds RetCode: 0 Status: OK PackageFile: MIRA_1.26.0.tar.gz PackageFileSize: 1.749 MiB