Package: MIRA Version: 1.26.0 Command: rm -rf MIRA.buildbin-libdir && mkdir MIRA.buildbin-libdir && E:\biocbuild\bbs-3.19-bioc\R\bin\R.exe CMD INSTALL --build --library=MIRA.buildbin-libdir MIRA_1.26.0.tar.gz StartedAt: 2024-10-17 08:08:49 -0400 (Thu, 17 Oct 2024) EndedAt: 2024-10-17 08:09:33 -0400 (Thu, 17 Oct 2024) EllapsedTime: 44.2 seconds RetCode: 0 Status: OK PackageFile: MIRA_1.26.0.zip PackageFileSize: 1.805 MiB