Package: MIRA Version: 1.26.0 Command: rm -rf MIRA.buildbin-libdir && mkdir MIRA.buildbin-libdir && /Users/biocbuild/BBS/utils/build-universal.sh MIRA_1.26.0.tar.gz /Library/Frameworks/R.framework/Resources/bin/R MIRA.buildbin-libdir StartedAt: 2024-06-10 00:27:15 -0400 (Mon, 10 Jun 2024) EndedAt: 2024-06-10 00:28:09 -0400 (Mon, 10 Jun 2024) EllapsedTime: 54.0 seconds RetCode: 0 Status: OK PackageFile: MIRA_1.26.0.tgz PackageFileSize: 2.583 MiB