Package: MIRA Version: 1.26.0 Maintainer: John Lawson MaintainerEmail: jtl2hk at virginia.edu git_url: https://git.bioconductor.org/packages/MIRA git_branch: RELEASE_3_19 git_last_commit: 03b97aa git_last_commit_date: 2024-04-30 11:01:10 -0400 (Tue, 30 Apr 2024)