Package: MICSQTL Version: 1.2.2 Command: E:\biocbuild\bbs-3.19-bioc\R\bin\R.exe CMD check --no-multiarch --install=check:MICSQTL.install-out.txt --library=E:\biocbuild\bbs-3.19-bioc\R\library --no-vignettes --timings MICSQTL_1.2.2.tar.gz StartedAt: 2024-10-17 03:21:02 -0400 (Thu, 17 Oct 2024) EndedAt: 2024-10-17 03:34:35 -0400 (Thu, 17 Oct 2024) EllapsedTime: 813.2 seconds RetCode: 0 Status: OK CheckDir: MICSQTL.Rcheck Warnings: 0