Package: MICSQTL Version: 1.2.2 Command: rm -rf MICSQTL.buildbin-libdir && mkdir MICSQTL.buildbin-libdir && /Users/biocbuild/BBS/utils/build-universal.sh MICSQTL_1.2.2.tar.gz /Library/Frameworks/R.framework/Resources/bin/R MICSQTL.buildbin-libdir StartedAt: 2024-06-10 00:26:59 -0400 (Mon, 10 Jun 2024) EndedAt: 2024-06-10 00:27:35 -0400 (Mon, 10 Jun 2024) EllapsedTime: 36.0 seconds RetCode: 0 Status: OK PackageFile: MICSQTL_1.2.2.tgz PackageFileSize: 2.643 MiB