Package: MICSQTL Version: 1.2.2 Command: /home/biocbuild/R/R-beta-2024-04-15_r86425/bin/R CMD check --install=check:MICSQTL.install-out.txt --library=/home/biocbuild/R/R-beta-2024-04-15_r86425/site-library --no-vignettes --timings MICSQTL_1.2.2.tar.gz StartedAt: 2024-05-09 09:25:59 -0000 (Thu, 09 May 2024) EndedAt: 2024-05-09 09:34:43 -0000 (Thu, 09 May 2024) EllapsedTime: 523.9 seconds RetCode: 0 Status: OK CheckDir: MICSQTL.Rcheck Warnings: 0