Package: MICSQTL Version: 1.2.2 Command: /Library/Frameworks/R.framework/Resources/bin/R CMD check --install=check:MICSQTL.install-out.txt --library=/Library/Frameworks/R.framework/Resources/library --no-vignettes --timings MICSQTL_1.2.2.tar.gz StartedAt: 2024-10-18 04:00:19 -0400 (Fri, 18 Oct 2024) EndedAt: 2024-10-18 04:12:42 -0400 (Fri, 18 Oct 2024) EllapsedTime: 743.6 seconds RetCode: 0 Status: OK CheckDir: MICSQTL.Rcheck Warnings: 0