Package: MICSQTL Version: 1.2.2 Command: rm -rf MICSQTL.buildbin-libdir && mkdir MICSQTL.buildbin-libdir && /Users/biocbuild/BBS/utils/build-universal.sh MICSQTL_1.2.2.tar.gz /Library/Frameworks/R.framework/Resources/bin/R MICSQTL.buildbin-libdir StartedAt: 2024-10-18 19:26:34 -0400 (Fri, 18 Oct 2024) EndedAt: 2024-10-18 19:27:12 -0400 (Fri, 18 Oct 2024) EllapsedTime: 37.3 seconds RetCode: 0 Status: OK PackageFile: MICSQTL_1.2.2.tgz PackageFileSize: 2.643 MiB