Package: MGnifyR Version: 1.0.0 Command: rm -rf MGnifyR.buildbin-libdir && mkdir MGnifyR.buildbin-libdir && E:\biocbuild\bbs-3.19-bioc\R\bin\R.exe CMD INSTALL --build --library=MGnifyR.buildbin-libdir MGnifyR_1.0.0.tar.gz StartedAt: 2024-10-17 08:07:53 -0400 (Thu, 17 Oct 2024) EndedAt: 2024-10-17 08:08:49 -0400 (Thu, 17 Oct 2024) EllapsedTime: 56.0 seconds RetCode: 0 Status: OK PackageFile: MGnifyR_1.0.0.zip PackageFileSize: 4.065 MiB