Package: MGnifyR Version: 1.0.0 Command: /home/biocbuild/bbs-3.19-bioc/R/bin/R CMD check --install=check:MGnifyR.install-out.txt --library=/home/biocbuild/bbs-3.19-bioc/R/site-library --timings MGnifyR_1.0.0.tar.gz StartedAt: 2024-10-17 02:21:55 -0400 (Thu, 17 Oct 2024) EndedAt: 2024-10-17 02:34:01 -0400 (Thu, 17 Oct 2024) EllapsedTime: 726.3 seconds RetCode: 0 Status: OK CheckDir: MGnifyR.Rcheck Warnings: 0