Package: MGnifyR Version: 1.0.0 Command: /home/biocbuild/bbs-3.19-bioc/R/bin/R CMD build --keep-empty-dirs --no-resave-data MGnifyR StartedAt: 2024-10-16 19:27:09 -0400 (Wed, 16 Oct 2024) EndedAt: 2024-10-16 19:28:18 -0400 (Wed, 16 Oct 2024) EllapsedTime: 69.1 seconds RetCode: 0 Status: OK PackageFile: MGnifyR_1.0.0.tar.gz PackageFileSize: 4.055 MiB