Package: MGnifyR Version: 1.0.0 Command: /Library/Frameworks/R.framework/Resources/bin/R CMD build --keep-empty-dirs --no-resave-data MGnifyR StartedAt: 2024-10-16 20:50:53 -0400 (Wed, 16 Oct 2024) EndedAt: 2024-10-16 20:54:45 -0400 (Wed, 16 Oct 2024) EllapsedTime: 232.1 seconds RetCode: 0 Status: OK PackageFile: MGnifyR_1.0.0.tar.gz PackageFileSize: 4.083 MiB