Package: MGnifyR Version: 1.0.0 Command: rm -rf MGnifyR.buildbin-libdir && mkdir MGnifyR.buildbin-libdir && /Users/biocbuild/BBS/utils/build-universal.sh MGnifyR_1.0.0.tar.gz /Library/Frameworks/R.framework/Resources/bin/R MGnifyR.buildbin-libdir StartedAt: 2024-10-17 16:35:00 -0400 (Thu, 17 Oct 2024) EndedAt: 2024-10-17 16:36:37 -0400 (Thu, 17 Oct 2024) EllapsedTime: 97.0 seconds RetCode: 0 Status: OK PackageFile: MGnifyR_1.0.0.tgz PackageFileSize: 4.173 MiB