Package: MGnifyR Version: 1.0.0 Command: /home/biocbuild/R/R-beta-2024-04-15_r86425/bin/R CMD check --install=check:MGnifyR.install-out.txt --library=/home/biocbuild/R/R-beta-2024-04-15_r86425/site-library --no-vignettes --timings MGnifyR_1.0.0.tar.gz StartedAt: 2024-05-09 09:21:55 -0000 (Thu, 09 May 2024) EndedAt: 2024-05-09 09:34:37 -0000 (Thu, 09 May 2024) EllapsedTime: 761.3 seconds RetCode: 0 Status: OK CheckDir: MGnifyR.Rcheck Warnings: 0