Package: MGnifyR Version: 1.0.0 Command: /home/biocbuild/R/R-beta-2024-04-15_r86425/bin/R CMD build --keep-empty-dirs --no-resave-data MGnifyR StartedAt: 2024-05-09 01:37:06 -0000 (Thu, 09 May 2024) EndedAt: 2024-05-09 01:38:41 -0000 (Thu, 09 May 2024) EllapsedTime: 95.1 seconds RetCode: 0 Status: OK PackageFile: MGnifyR_1.0.0.tar.gz PackageFileSize: 4.046 MiB