Package: MGFR Version: 1.30.0 Command: chmod a+r MGFR -R && E:\biocbuild\bbs-3.19-bioc\R\bin\R.exe CMD build --keep-empty-dirs --no-resave-data MGFR StartedAt: 2024-10-16 20:16:22 -0400 (Wed, 16 Oct 2024) EndedAt: 2024-10-16 20:17:08 -0400 (Wed, 16 Oct 2024) EllapsedTime: 46.1 seconds RetCode: 0 Status: OK PackageFile: MGFR_1.30.0.tar.gz PackageFileSize: 1.635 MiB