Package: MGFR Version: 1.30.0 Command: rm -rf MGFR.buildbin-libdir && mkdir MGFR.buildbin-libdir && E:\biocbuild\bbs-3.19-bioc\R\bin\R.exe CMD INSTALL --build --library=MGFR.buildbin-libdir MGFR_1.30.0.tar.gz StartedAt: 2024-10-17 08:07:51 -0400 (Thu, 17 Oct 2024) EndedAt: 2024-10-17 08:08:17 -0400 (Thu, 17 Oct 2024) EllapsedTime: 26.0 seconds RetCode: 0 Status: OK PackageFile: MGFR_1.30.0.zip PackageFileSize: 2.453 MiB