Package: MGFR Version: 1.30.0 Command: /Library/Frameworks/R.framework/Resources/bin/R CMD check --install=check:MGFR.install-out.txt --library=/Library/Frameworks/R.framework/Resources/library --no-vignettes --timings MGFR_1.30.0.tar.gz StartedAt: 2024-10-18 03:47:43 -0400 (Fri, 18 Oct 2024) EndedAt: 2024-10-18 03:50:05 -0400 (Fri, 18 Oct 2024) EllapsedTime: 141.9 seconds RetCode: 0 Status: OK CheckDir: MGFR.Rcheck Warnings: 0