Package: MGFR Version: 1.30.0 Command: /Library/Frameworks/R.framework/Resources/bin/R CMD build --keep-empty-dirs --no-resave-data MGFR StartedAt: 2024-10-17 04:20:58 -0400 (Thu, 17 Oct 2024) EndedAt: 2024-10-17 04:21:36 -0400 (Thu, 17 Oct 2024) EllapsedTime: 37.8 seconds RetCode: 0 Status: OK PackageFile: MGFR_1.30.0.tar.gz PackageFileSize: 1.824 MiB