Package: MEIGOR Version: 1.38.0 Command: chmod a+r MEIGOR -R && F:\biocbuild\bbs-3.19-bioc\R\bin\R.exe CMD build --keep-empty-dirs --no-resave-data MEIGOR StartedAt: 2024-06-26 19:53:58 -0400 (Wed, 26 Jun 2024) EndedAt: 2024-06-26 19:55:10 -0400 (Wed, 26 Jun 2024) EllapsedTime: 71.6 seconds RetCode: 0 Status: OK PackageFile: MEIGOR_1.38.0.tar.gz PackageFileSize: 579.1 KiB