Package: MEIGOR Version: 1.38.0 Command: rm -rf MEIGOR.buildbin-libdir && mkdir MEIGOR.buildbin-libdir && /Users/biocbuild/BBS/utils/build-universal.sh MEIGOR_1.38.0.tar.gz /Library/Frameworks/R.framework/Resources/bin/R MEIGOR.buildbin-libdir StartedAt: 2024-06-10 00:25:44 -0400 (Mon, 10 Jun 2024) EndedAt: 2024-06-10 00:26:00 -0400 (Mon, 10 Jun 2024) EllapsedTime: 15.7 seconds RetCode: 0 Status: OK PackageFile: MEIGOR_1.38.0.tgz PackageFileSize: 1.897 MiB