Package: MEDME Version: 1.64.0 Command: E:\biocbuild\bbs-3.19-bioc\R\bin\R.exe CMD INSTALL MEDME StartedAt: 2024-10-16 17:04:58 -0400 (Wed, 16 Oct 2024) EndedAt: 2024-10-16 17:05:20 -0400 (Wed, 16 Oct 2024) EllapsedTime: 22.7 seconds RetCode: 0 Status: OK