Package: MEDME Version: 1.64.0 Command: chmod a+r MEDME -R && E:\biocbuild\bbs-3.19-bioc\R\bin\R.exe CMD build --keep-empty-dirs --no-resave-data MEDME StartedAt: 2024-10-16 20:08:27 -0400 (Wed, 16 Oct 2024) EndedAt: 2024-10-16 20:09:20 -0400 (Wed, 16 Oct 2024) EllapsedTime: 53.6 seconds RetCode: 0 Status: OK PackageFile: MEDME_1.64.0.tar.gz PackageFileSize: 339.1 KiB