Package: MEDME Version: 1.64.0 Command: rm -rf MEDME.buildbin-libdir && mkdir MEDME.buildbin-libdir && F:\biocbuild\bbs-3.19-bioc\R\bin\R.exe CMD INSTALL --build --library=MEDME.buildbin-libdir MEDME_1.64.0.tar.gz StartedAt: 2024-06-27 08:28:02 -0400 (Thu, 27 Jun 2024) EndedAt: 2024-06-27 08:28:39 -0400 (Thu, 27 Jun 2024) EllapsedTime: 37.2 seconds RetCode: 0 Status: OK PackageFile: MEDME_1.64.0.zip PackageFileSize: 538.7 KiB