Package: MEDME Version: 1.64.0 Command: /Library/Frameworks/R.framework/Resources/bin/R CMD INSTALL MEDME StartedAt: 2024-10-16 16:28:10 -0400 (Wed, 16 Oct 2024) EndedAt: 2024-10-16 16:28:45 -0400 (Wed, 16 Oct 2024) EllapsedTime: 35.7 seconds RetCode: 0 Status: OK