Package: MEDME Version: 1.64.0 Command: /home/biocbuild/R/R-beta-2024-04-15_r86425/bin/R CMD check --install=check:MEDME.install-out.txt --library=/home/biocbuild/R/R-beta-2024-04-15_r86425/site-library --no-vignettes --timings MEDME_1.64.0.tar.gz StartedAt: 2024-05-09 09:06:29 -0000 (Thu, 09 May 2024) EndedAt: 2024-05-09 09:08:57 -0000 (Thu, 09 May 2024) EllapsedTime: 148.3 seconds RetCode: 0 Status: WARNINGS CheckDir: MEDME.Rcheck Warnings: 1