Package: MEDME Version: 1.64.0 Command: /home/biocbuild/R/R-beta-2024-04-15_r86425/bin/R CMD build --keep-empty-dirs --no-resave-data MEDME StartedAt: 2024-05-09 01:25:53 -0000 (Thu, 09 May 2024) EndedAt: 2024-05-09 01:26:37 -0000 (Thu, 09 May 2024) EllapsedTime: 44.1 seconds RetCode: 0 Status: OK PackageFile: MEDME_1.64.0.tar.gz PackageFileSize: 441.4 KiB