Package: MEDIPS Version: 1.56.0 Command: /home/biocbuild/bbs-3.19-bioc/R/bin/R CMD INSTALL MEDIPS StartedAt: 2024-10-16 16:14:46 -0400 (Wed, 16 Oct 2024) EndedAt: 2024-10-16 16:15:24 -0400 (Wed, 16 Oct 2024) EllapsedTime: 38.6 seconds RetCode: 0 Status: OK