Package: MEDIPS Version: 1.56.0 Command: /Library/Frameworks/R.framework/Resources/bin/R CMD INSTALL MEDIPS StartedAt: 2024-06-09 16:09:16 -0400 (Sun, 09 Jun 2024) EndedAt: 2024-06-09 16:10:22 -0400 (Sun, 09 Jun 2024) EllapsedTime: 65.7 seconds RetCode: 0 Status: OK