Package: MEDIPS Version: 1.56.0 Command: /Library/Frameworks/R.framework/Resources/bin/R CMD check --install=check:MEDIPS.install-out.txt --library=/Library/Frameworks/R.framework/Resources/library --no-vignettes --timings MEDIPS_1.56.0.tar.gz StartedAt: 2024-06-10 20:55:50 -0400 (Mon, 10 Jun 2024) EndedAt: 2024-06-10 21:06:55 -0400 (Mon, 10 Jun 2024) EllapsedTime: 665.2 seconds RetCode: 0 Status: OK CheckDir: MEDIPS.Rcheck Warnings: 0