Package: MEB Version: 1.18.0 Command: chmod a+r MEB -R && E:\biocbuild\bbs-3.19-bioc\R\bin\R.exe CMD build --keep-empty-dirs --no-resave-data MEB StartedAt: 2024-10-16 20:08:10 -0400 (Wed, 16 Oct 2024) EndedAt: 2024-10-16 20:09:06 -0400 (Wed, 16 Oct 2024) EllapsedTime: 55.2 seconds RetCode: 0 Status: OK PackageFile: MEB_1.18.0.tar.gz PackageFileSize: 1.179 MiB