Package: MEB Version: 1.18.0 Command: /home/biocbuild/R/R-beta-2024-04-15_r86425/bin/R CMD check --install=check:MEB.install-out.txt --library=/home/biocbuild/R/R-beta-2024-04-15_r86425/site-library --no-vignettes --timings MEB_1.18.0.tar.gz StartedAt: 2024-05-09 09:05:56 -0000 (Thu, 09 May 2024) EndedAt: 2024-05-09 09:10:11 -0000 (Thu, 09 May 2024) EllapsedTime: 255.5 seconds RetCode: 0 Status: OK CheckDir: MEB.Rcheck Warnings: 0