Package: MEAT Version: 1.16.0 Command: rm -rf MEAT.buildbin-libdir && mkdir MEAT.buildbin-libdir && /Users/biocbuild/BBS/utils/build-universal.sh MEAT_1.16.0.tar.gz /Library/Frameworks/R.framework/Resources/bin/R MEAT.buildbin-libdir StartedAt: 2024-06-10 00:25:41 -0400 (Mon, 10 Jun 2024) EndedAt: 2024-06-10 00:26:55 -0400 (Mon, 10 Jun 2024) EllapsedTime: 74.4 seconds RetCode: 0 Status: OK PackageFile: MEAT_1.16.0.tgz PackageFileSize: 5.709 MiB