Package: MEAT Version: 1.16.0 Command: /home/biocbuild/R/R-beta-2024-04-15_r86425/bin/R CMD build --keep-empty-dirs --no-resave-data MEAT StartedAt: 2024-05-09 01:25:12 -0000 (Thu, 09 May 2024) EndedAt: 2024-05-09 01:27:07 -0000 (Thu, 09 May 2024) EllapsedTime: 115.2 seconds RetCode: 0 Status: OK PackageFile: MEAT_1.16.0.tar.gz PackageFileSize: 4.974 MiB