Package: MEAT Version: 1.16.0 Command: /Library/Frameworks/R.framework/Resources/bin/R CMD build --keep-empty-dirs --no-resave-data MEAT StartedAt: 2024-06-09 23:55:53 -0400 (Sun, 09 Jun 2024) EndedAt: 2024-06-09 23:58:12 -0400 (Sun, 09 Jun 2024) EllapsedTime: 138.8 seconds RetCode: 0 Status: OK PackageFile: MEAT_1.16.0.tar.gz PackageFileSize: 4.974 MiB