Package: MEAT Version: 1.16.0 Command: /Library/Frameworks/R.framework/Resources/bin/R CMD build --keep-empty-dirs --no-resave-data MEAT StartedAt: 2024-10-17 03:41:16 -0400 (Thu, 17 Oct 2024) EndedAt: 2024-10-17 03:43:07 -0400 (Thu, 17 Oct 2024) EllapsedTime: 111.1 seconds RetCode: 0 Status: OK PackageFile: MEAT_1.16.0.tar.gz PackageFileSize: 4.974 MiB