Package: MEAL Version: 1.34.0 Command: E:\biocbuild\bbs-3.19-bioc\R\bin\R.exe CMD INSTALL MEAL StartedAt: 2024-10-16 17:25:47 -0400 (Wed, 16 Oct 2024) EndedAt: 2024-10-16 17:26:26 -0400 (Wed, 16 Oct 2024) EllapsedTime: 39.3 seconds RetCode: 0 Status: OK