Package: MEAL Version: 1.34.0 Command: E:\biocbuild\bbs-3.19-bioc\R\bin\R.exe CMD check --no-multiarch --install=check:MEAL.install-out.txt --library=E:\biocbuild\bbs-3.19-bioc\R\library --no-vignettes --timings MEAL_1.34.0.tar.gz StartedAt: 2024-10-17 03:00:55 -0400 (Thu, 17 Oct 2024) EndedAt: 2024-10-17 03:07:21 -0400 (Thu, 17 Oct 2024) EllapsedTime: 385.4 seconds RetCode: 0 Status: WARNINGS CheckDir: MEAL.Rcheck Warnings: 2