Package: MEAL Version: 1.34.0 Command: rm -rf MEAL.buildbin-libdir && mkdir MEAL.buildbin-libdir && F:\biocbuild\bbs-3.19-bioc\R\bin\R.exe CMD INSTALL --build --library=MEAL.buildbin-libdir MEAL_1.34.0.tar.gz StartedAt: 2024-06-27 08:27:53 -0400 (Thu, 27 Jun 2024) EndedAt: 2024-06-27 08:28:49 -0400 (Thu, 27 Jun 2024) EllapsedTime: 56.3 seconds RetCode: 0 Status: OK PackageFile: MEAL_1.34.0.zip PackageFileSize: 1.094 MiB