Package: MEAL Version: 1.34.0 Command: /Library/Frameworks/R.framework/Resources/bin/R CMD check --install=check:MEAL.install-out.txt --library=/Library/Frameworks/R.framework/Resources/library --no-vignettes --timings MEAL_1.34.0.tar.gz StartedAt: 2024-10-17 07:47:09 -0400 (Thu, 17 Oct 2024) EndedAt: 2024-10-17 08:08:19 -0400 (Thu, 17 Oct 2024) EllapsedTime: 1270.1 seconds RetCode: 0 Status: WARNINGS CheckDir: MEAL.Rcheck Warnings: 2