Package: MEAL Version: 1.34.0 Command: /Library/Frameworks/R.framework/Resources/bin/R CMD build --keep-empty-dirs --no-resave-data MEAL StartedAt: 2024-10-17 03:40:47 -0400 (Thu, 17 Oct 2024) EndedAt: 2024-10-17 03:47:55 -0400 (Thu, 17 Oct 2024) EllapsedTime: 428.4 seconds RetCode: 0 Status: OK PackageFile: MEAL_1.34.0.tar.gz PackageFileSize: 2.103 MiB