Package: MDTS Version: 1.24.0 Command: E:\biocbuild\bbs-3.19-bioc\R\bin\R.exe CMD INSTALL MDTS StartedAt: 2024-10-16 16:23:38 -0400 (Wed, 16 Oct 2024) EndedAt: 2024-10-16 16:24:07 -0400 (Wed, 16 Oct 2024) EllapsedTime: 28.2 seconds RetCode: 0 Status: OK