Package: MDTS Version: 1.24.0 Command: /home/biocbuild/bbs-3.19-bioc/R/bin/R CMD build --keep-empty-dirs --no-resave-data MDTS StartedAt: 2024-10-16 19:19:10 -0400 (Wed, 16 Oct 2024) EndedAt: 2024-10-16 19:19:49 -0400 (Wed, 16 Oct 2024) EllapsedTime: 38.1 seconds RetCode: 0 Status: OK PackageFile: MDTS_1.24.0.tar.gz PackageFileSize: 31.54 KiB